BEGIN:VCALENDAR
VERSION:2.0
PRODID:icalendar-ruby
CALSCALE:GREGORIAN
METHOD:PUBLISH
BEGIN:VTIMEZONE
TZID:Australia/Brisbane
BEGIN:STANDARD
DTSTART:19920301T020000
TZOFFSETFROM:+1100
TZOFFSETTO:+1000
TZNAME:AEST
END:STANDARD
END:VTIMEZONE
BEGIN:VEVENT
DTSTAMP:20260423T151524Z
UID:inspection_3011835
DTSTART;TZID=Australia/Brisbane:20260425T115000
DTEND;TZID=Australia/Brisbane:20260425T120000
CLASS:PUBLIC
CREATED:20260423T213357
DESCRIPTION: 
LAST-MODIFIED:20260423T213357
LOCATION:3 / 104 Bromley Street\, KANGAROO POINT QLD 4169\, Australia
SUMMARY:3 / 104 Bromley Street\,  Inspection
URL;VALUE=URI:http://www.hatchrealestate.com.au/
END:VEVENT
END:VCALENDAR
